BEGIN:VCALENDAR
VERSION:2.0
PRODID:-//BGG — Bürgergesellschaft Gaimersheim - ECPv6.15.11//NONSGML v1.0//EN
CALSCALE:GREGORIAN
METHOD:PUBLISH
X-ORIGINAL-URL:https://bg-gaimersheim.de
X-WR-CALDESC:Veranstaltungen für BGG — Bürgergesellschaft Gaimersheim
REFRESH-INTERVAL;VALUE=DURATION:PT1H
X-Robots-Tag:noindex
X-PUBLISHED-TTL:PT1H
BEGIN:VTIMEZONE
TZID:Europe/Berlin
BEGIN:DAYLIGHT
TZOFFSETFROM:+0100
TZOFFSETTO:+0200
TZNAME:CEST
DTSTART:20250330T010000
END:DAYLIGHT
BEGIN:STANDARD
TZOFFSETFROM:+0200
TZOFFSETTO:+0100
TZNAME:CET
DTSTART:20251026T010000
END:STANDARD
BEGIN:DAYLIGHT
TZOFFSETFROM:+0100
TZOFFSETTO:+0200
TZNAME:CEST
DTSTART:20260329T010000
END:DAYLIGHT
BEGIN:STANDARD
TZOFFSETFROM:+0200
TZOFFSETTO:+0100
TZNAME:CET
DTSTART:20261025T010000
END:STANDARD
BEGIN:DAYLIGHT
TZOFFSETFROM:+0100
TZOFFSETTO:+0200
TZNAME:CEST
DTSTART:20270328T010000
END:DAYLIGHT
BEGIN:STANDARD
TZOFFSETFROM:+0200
TZOFFSETTO:+0100
TZNAME:CET
DTSTART:20271031T010000
END:STANDARD
END:VTIMEZONE
BEGIN:VEVENT
DTSTART;TZID=Europe/Berlin:20260303T180000
DTEND;TZID=Europe/Berlin:20260303T200000
DTSTAMP:20260423T184415
CREATED:20260207T170008Z
LAST-MODIFIED:20260207T170008Z
UID:267-1772560800-1772568000@bg-gaimersheim.de
SUMMARY:Stammtisch in der Pizzeria Colosseo Gaimersheim
DESCRIPTION:
URL:https://bg-gaimersheim.de/event/stammtisch-in-der-pizzeria-colosseo-gaimersheim-2/
END:VEVENT
BEGIN:VEVENT
DTSTART;TZID=Europe/Berlin:20260311T120000
DTEND;TZID=Europe/Berlin:20260311T140000
DTSTAMP:20260423T184415
CREATED:20251204T190708Z
LAST-MODIFIED:20251204T190708Z
UID:211-1773230400-1773237600@bg-gaimersheim.de
SUMMARY:Mittagstisch im Gasthaus am Marktplatz
DESCRIPTION:
URL:https://bg-gaimersheim.de/event/mittagstisch-im-gasthaus-am-marktplatz-7/
END:VEVENT
BEGIN:VEVENT
DTSTART;TZID=Europe/Berlin:20260318T160000
DTEND;TZID=Europe/Berlin:20260318T180000
DTSTAMP:20260423T184415
CREATED:20260326T161530Z
LAST-MODIFIED:20260326T161530Z
UID:288-1773849600-1773856800@bg-gaimersheim.de
SUMMARY:Testlauf Seniorenkino im Backhaus
DESCRIPTION:
URL:https://bg-gaimersheim.de/event/testlauf-seniorenkino-im-backhaus/
END:VEVENT
BEGIN:VEVENT
DTSTART;TZID=Europe/Berlin:20260325T143000
DTEND;TZID=Europe/Berlin:20260325T163000
DTSTAMP:20260423T184415
CREATED:20251204T192450Z
LAST-MODIFIED:20251204T192450Z
UID:236-1774449000-1774456200@bg-gaimersheim.de
SUMMARY:Kaffee & Kuchen im Gasthaus am Marktplatz
DESCRIPTION:
URL:https://bg-gaimersheim.de/event/kaffee-kuchen-im-gasthaus-am-marktplatz-7/
END:VEVENT
END:VCALENDAR